BEGIN:VCALENDAR
VERSION:2.0
PRODID:-// - ECPv5.16.0//NONSGML v1.0//EN
CALSCALE:GREGORIAN
METHOD:PUBLISH
X-ORIGINAL-URL:https://nazusta.com
X-WR-CALDESC:Events for 
BEGIN:VTIMEZONE
TZID:UTC
BEGIN:STANDARD
TZOFFSETFROM:+0000
TZOFFSETTO:+0000
TZNAME:UTC
DTSTART:20240101T000000
END:STANDARD
END:VTIMEZONE
BEGIN:VEVENT
DTSTART;VALUE=DATE:20240407
DTEND;VALUE=DATE:20240408
DTSTAMP:20260423T214344
CREATED:20240308T025252Z
LAST-MODIFIED:20240328T033808Z
UID:2671-1712448000-1712534399@nazusta.com
SUMMARY:NAU Campus Kids Day
DESCRIPTION:RSVP Here!
URL:https://nazusta.com/event/nau-campus-kids-day-5/
LOCATION:Northern Arizona University Tennis Complex\, 821 S. San Francisco Street (Building 86)\, Flagstaff\, AZ\, 86001\, United States
CATEGORIES:Juniors,NAZ Events
ATTACH;FMTTYPE=image/png:https://nazusta.com/wp-content/uploads/2024/03/Copy-of-NAU-Campus-Kids-Day.png
ORGANIZER;CN="USTA%20Northern%20Arizona":MAILTO:naz@southwest.usta.com
END:VEVENT
END:VCALENDAR