BEGIN:VCALENDAR
VERSION:2.0
PRODID:-// - ECPv5.16.0//NONSGML v1.0//EN
CALSCALE:GREGORIAN
METHOD:PUBLISH
X-ORIGINAL-URL:https://nazusta.com
X-WR-CALDESC:Events for 
BEGIN:VTIMEZONE
TZID:UTC
BEGIN:STANDARD
TZOFFSETFROM:+0000
TZOFFSETTO:+0000
TZNAME:UTC
DTSTART:20200101T000000
END:STANDARD
END:VTIMEZONE
BEGIN:VEVENT
DTSTART;VALUE=DATE:20200925
DTEND;VALUE=DATE:20200928
DTSTAMP:20260421T181347
CREATED:20191123T192817Z
LAST-MODIFIED:20191126T022829Z
UID:454-1600992000-1601251199@nazusta.com
SUMMARY:USTA Southwest Mixed 18 & Over Section Championships
DESCRIPTION:Surprise\, AZ
URL:https://nazusta.com/event/usta-southwest-mixed-18-over-section-championships/
CATEGORIES:Leagues,Sectionals
ORGANIZER;CN="USTA%20Southwest":MAILTO:info@southwest.usta.com
END:VEVENT
BEGIN:VEVENT
DTSTART;VALUE=DATE:20200925
DTEND;VALUE=DATE:20200928
DTSTAMP:20260421T181347
CREATED:20191123T193418Z
LAST-MODIFIED:20191126T022829Z
UID:460-1600992000-1601251199@nazusta.com
SUMMARY:USTA Southwest Mixed 40 & Over Section Championships
DESCRIPTION:Surprise\, AZ
URL:https://nazusta.com/event/usta-southwest-mixed-40-over-section-championships/
CATEGORIES:Leagues,Sectionals
ORGANIZER;CN="USTA%20Southwest":MAILTO:info@southwest.usta.com
END:VEVENT
END:VCALENDAR