BEGIN:VCALENDAR
VERSION:2.0
PRODID:-// - ECPv5.16.0//NONSGML v1.0//EN
CALSCALE:GREGORIAN
METHOD:PUBLISH
X-ORIGINAL-URL:https://nazusta.com
X-WR-CALDESC:Events for 
BEGIN:VTIMEZONE
TZID:UTC
BEGIN:STANDARD
TZOFFSETFROM:+0000
TZOFFSETTO:+0000
TZNAME:UTC
DTSTART:20200101T000000
END:STANDARD
END:VTIMEZONE
BEGIN:VEVENT
DTSTART;TZID=UTC:20200307T130000
DTEND;TZID=UTC:20200307T130000
DTSTAMP:20260422T235404
CREATED:20200130T041204Z
LAST-MODIFIED:20200130T041204Z
UID:541-1583586000-1583586000@nazusta.com
SUMMARY:NAZ Iwai vs. NAZ Kolody
DESCRIPTION:C-NAZ 4.0 Men
URL:https://nazusta.com/event/naz-iwai-vs-naz-kolody/
LOCATION:Poco Diablo Resort\, 1752 AZ-179\, Sedona\, AZ\, 86336\, United States
CATEGORIES:Leagues
ORGANIZER;CN="USTA%20Northern%20Arizona":MAILTO:naz@southwest.usta.com
END:VEVENT
BEGIN:VEVENT
DTSTART;TZID=UTC:20200307T150000
DTEND;TZID=UTC:20200307T150000
DTSTAMP:20260422T235404
CREATED:20200130T041204Z
LAST-MODIFIED:20200130T041204Z
UID:542-1583593200-1583593200@nazusta.com
SUMMARY:NAZ Iwai vs. NAZ Kolody
DESCRIPTION:C-NAZ 4.0 Men
URL:https://nazusta.com/event/naz-iwai-vs-naz-kolody-2/
LOCATION:Poco Diablo Resort\, 1752 AZ-179\, Sedona\, AZ\, 86336\, United States
CATEGORIES:Leagues
ORGANIZER;CN="USTA%20Northern%20Arizona":MAILTO:naz@southwest.usta.com
END:VEVENT
END:VCALENDAR