BEGIN:VCALENDAR
VERSION:2.0
PRODID:-// - ECPv5.16.0//NONSGML v1.0//EN
CALSCALE:GREGORIAN
METHOD:PUBLISH
X-ORIGINAL-URL:https://nazusta.com
X-WR-CALDESC:Events for 
BEGIN:VTIMEZONE
TZID:UTC
BEGIN:STANDARD
TZOFFSETFROM:+0000
TZOFFSETTO:+0000
TZNAME:UTC
DTSTART:20200101T000000
END:STANDARD
END:VTIMEZONE
BEGIN:VEVENT
DTSTART;TZID=UTC:20200209T133000
DTEND;TZID=UTC:20200209T133000
DTSTAMP:20260423T052901
CREATED:20200130T041205Z
LAST-MODIFIED:20200130T041205Z
UID:547-1581255000-1581255000@nazusta.com
SUMMARY:NAZ Crownheart vs. NAZMurrieta
DESCRIPTION:C-NAZ 4.0 Women
URL:https://nazusta.com/event/naz-crownheart-vs-nazmurrieta/
LOCATION:Poco Diablo Resort\, 1752 AZ-179\, Sedona\, AZ\, 86336\, United States
CATEGORIES:Leagues
ORGANIZER;CN="USTA%20Northern%20Arizona":MAILTO:naz@southwest.usta.com
END:VEVENT
BEGIN:VEVENT
DTSTART;TZID=UTC:20200209T153000
DTEND;TZID=UTC:20200209T153000
DTSTAMP:20260423T052901
CREATED:20200130T041205Z
LAST-MODIFIED:20200130T041205Z
UID:548-1581262200-1581262200@nazusta.com
SUMMARY:NAZ Crownheart vs. NAZMurrieta
DESCRIPTION:C-NAZ 4.0 Women
URL:https://nazusta.com/event/naz-crownheart-vs-nazmurrieta-2/
LOCATION:Poco Diablo Resort\, 1752 AZ-179\, Sedona\, AZ\, 86336\, United States
CATEGORIES:Leagues
ORGANIZER;CN="USTA%20Northern%20Arizona":MAILTO:naz@southwest.usta.com
END:VEVENT
END:VCALENDAR