BEGIN:VCALENDAR
VERSION:2.0
PRODID:-// - ECPv5.16.0//NONSGML v1.0//EN
CALSCALE:GREGORIAN
METHOD:PUBLISH
X-ORIGINAL-URL:https://nazusta.com
X-WR-CALDESC:Events for 
BEGIN:VTIMEZONE
TZID:UTC
BEGIN:STANDARD
TZOFFSETFROM:+0000
TZOFFSETTO:+0000
TZNAME:UTC
DTSTART:20190101T000000
END:STANDARD
END:VTIMEZONE
BEGIN:VEVENT
DTSTART;VALUE=DATE:20191117
DTEND;VALUE=DATE:20191118
DTSTAMP:20260425T200525
CREATED:20191123T184802Z
LAST-MODIFIED:20191123T184802Z
UID:428-1573948800-1574035199@nazusta.com
SUMMARY:USTA NAZ 40 & Over - End of Play
DESCRIPTION:
URL:https://nazusta.com/event/usta-naz-40-over-end-of-play/
CATEGORIES:Leagues
ORGANIZER;CN="USTA%20Northern%20Arizona":MAILTO:naz@southwest.usta.com
END:VEVENT
BEGIN:VEVENT
DTSTART;TZID=UTC:20191117T123000
DTEND;TZID=UTC:20191117T123000
DTSTAMP:20260425T200525
CREATED:20190822T193802Z
LAST-MODIFIED:20190822T193802Z
UID:188-1573993800-1573993800@nazusta.com
SUMMARY:40+ 4.0 Women's Hardwood vs. Brock
DESCRIPTION:1007488799
URL:https://nazusta.com/event/40-4-0-womens-hardwood-vs-brock-3/
LOCATION:Poco Diablo Resort\, 1752 AZ-179\, Sedona\, AZ\, 86336\, United States
CATEGORIES:Leagues
ORGANIZER;CN="USTA%20Northern%20Arizona":MAILTO:naz@southwest.usta.com
END:VEVENT
BEGIN:VEVENT
DTSTART;TZID=UTC:20191117T143000
DTEND;TZID=UTC:20191117T143000
DTSTAMP:20260425T200525
CREATED:20190822T194613Z
LAST-MODIFIED:20190822T195335Z
UID:189-1574001000-1574001000@nazusta.com
SUMMARY:40+ 4.0 Women's Hardwood vs. Brock
DESCRIPTION:1007488800
URL:https://nazusta.com/event/40-4-0-womens-hardwood-vs-brock-4/
LOCATION:Poco Diablo Resort\, 1752 AZ-179\, Sedona\, AZ\, 86336\, United States
CATEGORIES:Leagues
ATTACH;FMTTYPE=image/jpeg:https://nazusta.com/wp-content/uploads/2019/08/ustaleague_midwest_4c.jpg
ORGANIZER;CN="USTA%20Northern%20Arizona":MAILTO:naz@southwest.usta.com
END:VEVENT
END:VCALENDAR