BEGIN:VCALENDAR
VERSION:2.0
PRODID:-// - ECPv5.16.0//NONSGML v1.0//EN
CALSCALE:GREGORIAN
METHOD:PUBLISH
X-ORIGINAL-URL:https://nazusta.com
X-WR-CALDESC:Events for 
BEGIN:VTIMEZONE
TZID:UTC
BEGIN:STANDARD
TZOFFSETFROM:+0000
TZOFFSETTO:+0000
TZNAME:UTC
DTSTART:20190101T000000
END:STANDARD
END:VTIMEZONE
BEGIN:VEVENT
DTSTART;TZID=UTC:20191109T120000
DTEND;TZID=UTC:20191109T120000
DTSTAMP:20260426T021647
CREATED:20190822T193749Z
LAST-MODIFIED:20190822T193749Z
UID:166-1573300800-1573300800@nazusta.com
SUMMARY:40+ 3.5 Women's Weick vs. Conn
DESCRIPTION:1007488335
URL:https://nazusta.com/event/40-3-5-womens-weick-vs-conn-3/
LOCATION:Hal Jensen Recreation Center\, 2403 N Izabel St\, Flagstaff\, AZ\, 86004\, United States
CATEGORIES:Leagues
ORGANIZER;CN="USTA%20Northern%20Arizona":MAILTO:naz@southwest.usta.com
END:VEVENT
BEGIN:VEVENT
DTSTART;TZID=UTC:20191109T120000
DTEND;TZID=UTC:20191109T120000
DTSTAMP:20260426T021647
CREATED:20190822T193801Z
LAST-MODIFIED:20190822T193801Z
UID:180-1573300800-1573300800@nazusta.com
SUMMARY:40+ 4.0 Men's Mraz vs Iwai
DESCRIPTION:1007488811
URL:https://nazusta.com/event/40-4-0-mens-mraz-vs-iwai/
LOCATION:Yavapai College Tennis Center\, 1100 E Sheldon St\, Prescott\, AZ\, 86301\, United States
CATEGORIES:Leagues
ORGANIZER;CN="USTA%20Northern%20Arizona":MAILTO:naz@southwest.usta.com
END:VEVENT
BEGIN:VEVENT
DTSTART;TZID=UTC:20191109T140000
DTEND;TZID=UTC:20191109T140000
DTSTAMP:20260426T021647
CREATED:20190822T193749Z
LAST-MODIFIED:20190822T193749Z
UID:167-1573308000-1573308000@nazusta.com
SUMMARY:40+ 3.5 Women's Weick vs. Conn
DESCRIPTION:1007488336
URL:https://nazusta.com/event/40-3-5-womens-weick-vs-conn-4/
LOCATION:Hal Jensen Recreation Center\, 2403 N Izabel St\, Flagstaff\, AZ\, 86004\, United States
CATEGORIES:Leagues
ORGANIZER;CN="USTA%20Northern%20Arizona":MAILTO:naz@southwest.usta.com
END:VEVENT
BEGIN:VEVENT
DTSTART;TZID=UTC:20191109T140000
DTEND;TZID=UTC:20191109T140000
DTSTAMP:20260426T021647
CREATED:20190822T193801Z
LAST-MODIFIED:20190822T193801Z
UID:181-1573308000-1573308000@nazusta.com
SUMMARY:40+ 4.0 Men's Mraz vs Iwai
DESCRIPTION:1007488812
URL:https://nazusta.com/event/40-4-0-mens-mraz-vs-iwai-2/
LOCATION:Yavapai College Tennis Center\, 1100 E Sheldon St\, Prescott\, AZ\, 86301\, United States
CATEGORIES:Leagues
ORGANIZER;CN="USTA%20Northern%20Arizona":MAILTO:naz@southwest.usta.com
END:VEVENT
END:VCALENDAR