BEGIN:VCALENDAR
VERSION:2.0
PRODID:-// - ECPv5.16.0//NONSGML v1.0//EN
CALSCALE:GREGORIAN
METHOD:PUBLISH
X-ORIGINAL-URL:https://nazusta.com
X-WR-CALDESC:Events for 
BEGIN:VTIMEZONE
TZID:UTC
BEGIN:STANDARD
TZOFFSETFROM:+0000
TZOFFSETTO:+0000
TZNAME:UTC
DTSTART:20190101T000000
END:STANDARD
END:VTIMEZONE
BEGIN:VEVENT
DTSTART;TZID=UTC:20191019T113000
DTEND;TZID=UTC:20191019T113000
DTSTAMP:20260425T213932
CREATED:20190822T193748Z
LAST-MODIFIED:20190822T193748Z
UID:162-1571484600-1571484600@nazusta.com
SUMMARY:40+ 3.5 Women's Conn vs. Weick
DESCRIPTION:1007488331
URL:https://nazusta.com/event/40-3-5-womens-conn-vs-weick/
LOCATION:Yavapai College Tennis Center\, 1100 E Sheldon St\, Prescott\, AZ\, 86301\, United States
CATEGORIES:Leagues
ORGANIZER;CN="USTA%20Northern%20Arizona":MAILTO:naz@southwest.usta.com
END:VEVENT
BEGIN:VEVENT
DTSTART;TZID=UTC:20191019T120000
DTEND;TZID=UTC:20191019T120000
DTSTAMP:20260425T213932
CREATED:20190822T193751Z
LAST-MODIFIED:20190822T193751Z
UID:176-1571486400-1571486400@nazusta.com
SUMMARY:40+ 4.0 Men's Iwai vs. Kolody
DESCRIPTION:1007488807
URL:https://nazusta.com/event/40-4-0-mens-iwai-vs-kolody/
LOCATION:Hal Jensen Recreation Center\, 2403 N Izabel St\, Flagstaff\, AZ\, 86004\, United States
CATEGORIES:Leagues
ORGANIZER;CN="USTA%20Northern%20Arizona":MAILTO:naz@southwest.usta.com
END:VEVENT
BEGIN:VEVENT
DTSTART;TZID=UTC:20191019T130000
DTEND;TZID=UTC:20191019T130000
DTSTAMP:20260425T213932
CREATED:20190822T190247Z
LAST-MODIFIED:20190822T190247Z
UID:148-1571490000-1571490000@nazusta.com
SUMMARY:65+ 8.0 Nebelsky vs. Molina
DESCRIPTION:1007488819
URL:https://nazusta.com/event/65-8-0-nebelsky-vs-molina-3/
LOCATION:Poco Diablo Resort\, 1752 AZ-179\, Sedona\, AZ\, 86336\, United States
CATEGORIES:Leagues
ORGANIZER;CN="USTA%20Northern%20Arizona":MAILTO:naz@southwest.usta.com
END:VEVENT
BEGIN:VEVENT
DTSTART;TZID=UTC:20191019T133000
DTEND;TZID=UTC:20191019T133000
DTSTAMP:20260425T213932
CREATED:20190822T193748Z
LAST-MODIFIED:20190822T193748Z
UID:163-1571491800-1571491800@nazusta.com
SUMMARY:40+ 3.5 Women's Conn vs. Weick
DESCRIPTION:1007488332
URL:https://nazusta.com/event/40-3-5-womens-conn-vs-weick-2/
LOCATION:Yavapai College Tennis Center\, 1100 E Sheldon St\, Prescott\, AZ\, 86301\, United States
CATEGORIES:Leagues
ORGANIZER;CN="USTA%20Northern%20Arizona":MAILTO:naz@southwest.usta.com
END:VEVENT
BEGIN:VEVENT
DTSTART;TZID=UTC:20191019T140000
DTEND;TZID=UTC:20191019T140000
DTSTAMP:20260425T213932
CREATED:20190822T193751Z
LAST-MODIFIED:20190822T193751Z
UID:177-1571493600-1571493600@nazusta.com
SUMMARY:40+ 4.0 Men's Iwai vs. Kolody
DESCRIPTION:1007488808
URL:https://nazusta.com/event/40-4-0-mens-iwai-vs-kolody-2/
LOCATION:Hal Jensen Recreation Center\, 2403 N Izabel St\, Flagstaff\, AZ\, 86004\, United States
CATEGORIES:Leagues
ORGANIZER;CN="USTA%20Northern%20Arizona":MAILTO:naz@southwest.usta.com
END:VEVENT
BEGIN:VEVENT
DTSTART;TZID=UTC:20191019T150000
DTEND;TZID=UTC:20191019T150000
DTSTAMP:20260425T213932
CREATED:20190822T190247Z
LAST-MODIFIED:20190822T190247Z
UID:149-1571497200-1571497200@nazusta.com
SUMMARY:65+ 8.0 Nebelsky vs. Molina
DESCRIPTION:1007488820
URL:https://nazusta.com/event/65-8-0-nebelsky-vs-molina-4/
LOCATION:Poco Diablo Resort\, 1752 AZ-179\, Sedona\, AZ\, 86336\, United States
CATEGORIES:Leagues
ORGANIZER;CN="USTA%20Northern%20Arizona":MAILTO:naz@southwest.usta.com
END:VEVENT
END:VCALENDAR