BEGIN:VCALENDAR
VERSION:2.0
PRODID:-// - ECPv5.16.0//NONSGML v1.0//EN
CALSCALE:GREGORIAN
METHOD:PUBLISH
X-ORIGINAL-URL:https://nazusta.com
X-WR-CALDESC:Events for 
BEGIN:VTIMEZONE
TZID:UTC
BEGIN:STANDARD
TZOFFSETFROM:+0000
TZOFFSETTO:+0000
TZNAME:UTC
DTSTART:20240101T000000
END:STANDARD
END:VTIMEZONE
BEGIN:VEVENT
DTSTART;VALUE=DATE:20241206
DTEND;VALUE=DATE:20241209
DTSTAMP:20260423T135013
CREATED:20240108T194652Z
LAST-MODIFIED:20240108T194652Z
UID:2593-1733443200-1733702399@nazusta.com
SUMMARY:2024 65+ Sectionals
DESCRIPTION:
URL:https://nazusta.com/event/2024-65-sectionals/
CATEGORIES:Leagues,Sectionals
ORGANIZER;CN="USTA%20Southwest":MAILTO:info@southwest.usta.com
END:VEVENT
END:VCALENDAR