BEGIN:VCALENDAR
VERSION:2.0
PRODID:-// - ECPv5.16.0//NONSGML v1.0//EN
CALSCALE:GREGORIAN
METHOD:PUBLISH
X-ORIGINAL-URL:https://nazusta.com
X-WR-CALDESC:Events for 
BEGIN:VTIMEZONE
TZID:UTC
BEGIN:STANDARD
TZOFFSETFROM:+0000
TZOFFSETTO:+0000
TZNAME:UTC
DTSTART:20200101T000000
END:STANDARD
END:VTIMEZONE
BEGIN:VEVENT
DTSTART;VALUE=DATE:20200529
DTEND;VALUE=DATE:20200601
DTSTAMP:20260421T122918
CREATED:20191123T185042Z
LAST-MODIFIED:20191126T023015Z
UID:430-1590710400-1590969599@nazusta.com
SUMMARY:USTA Southwest 40 & Over Sectionals Championships
DESCRIPTION:Albuqerque\, NM
URL:https://nazusta.com/event/usta-southwest-40-over-sectionals-championships/
CATEGORIES:Leagues,Sectionals
ORGANIZER;CN="USTA%20Southwest":MAILTO:info@southwest.usta.com
END:VEVENT
END:VCALENDAR