BEGIN:VCALENDAR
VERSION:2.0
PRODID:-// - ECPv5.16.0//NONSGML v1.0//EN
CALSCALE:GREGORIAN
METHOD:PUBLISH
X-ORIGINAL-URL:https://nazusta.com
X-WR-CALDESC:Events for 
BEGIN:VTIMEZONE
TZID:UTC
BEGIN:STANDARD
TZOFFSETFROM:+0000
TZOFFSETTO:+0000
TZNAME:UTC
DTSTART:20200101T000000
END:STANDARD
END:VTIMEZONE
BEGIN:VEVENT
DTSTART;TZID=UTC:20200229T133000
DTEND;TZID=UTC:20200229T133000
DTSTAMP:20260422T205709
CREATED:20200130T041153Z
LAST-MODIFIED:20200130T041153Z
UID:533-1582983000-1582983000@nazusta.com
SUMMARY:NAZ Smith vs. NAZ Conn
DESCRIPTION:C-NAZ 3.5 Women
URL:https://nazusta.com/event/naz-smith-vs-naz-conn/
LOCATION:Poco Diablo Resort\, 1752 AZ-179\, Sedona\, AZ\, 86336\, United States
CATEGORIES:Leagues
ORGANIZER;CN="USTA%20Northern%20Arizona":MAILTO:naz@southwest.usta.com
END:VEVENT
END:VCALENDAR