BEGIN:VCALENDAR
VERSION:2.0
PRODID:-// - ECPv5.16.0//NONSGML v1.0//EN
CALSCALE:GREGORIAN
METHOD:PUBLISH
X-ORIGINAL-URL:https://nazusta.com
X-WR-CALDESC:Events for 
BEGIN:VTIMEZONE
TZID:UTC
BEGIN:STANDARD
TZOFFSETFROM:+0000
TZOFFSETTO:+0000
TZNAME:UTC
DTSTART:20200101T000000
END:STANDARD
END:VTIMEZONE
BEGIN:VEVENT
DTSTART;TZID=UTC:20200328T150000
DTEND;TZID=UTC:20200328T150000
DTSTAMP:20260422T183832
CREATED:20200130T041202Z
LAST-MODIFIED:20200130T041202Z
UID:536-1585407600-1585407600@nazusta.com
SUMMARY:NAZ Smith vs. NAZ Conn
DESCRIPTION:C-NAZ 3.5 Women
URL:https://nazusta.com/event/naz-smith-vs-naz-conn-4/
LOCATION:Poco Diablo Resort\, 1752 AZ-179\, Sedona\, AZ\, 86336\, United States
CATEGORIES:Leagues
ORGANIZER;CN="USTA%20Northern%20Arizona":MAILTO:naz@southwest.usta.com
END:VEVENT
END:VCALENDAR