BEGIN:VCALENDAR
VERSION:2.0
PRODID:-// - ECPv5.16.0//NONSGML v1.0//EN
CALSCALE:GREGORIAN
METHOD:PUBLISH
X-ORIGINAL-URL:https://nazusta.com
X-WR-CALDESC:Events for 
BEGIN:VTIMEZONE
TZID:UTC
BEGIN:STANDARD
TZOFFSETFROM:+0000
TZOFFSETTO:+0000
TZNAME:UTC
DTSTART:20230101T000000
END:STANDARD
END:VTIMEZONE
BEGIN:VEVENT
DTSTART;TZID=UTC:20231014T090000
DTEND;TZID=UTC:20231014T120000
DTSTAMP:20260424T203426
CREATED:20230110T180152Z
LAST-MODIFIED:20230818T005649Z
UID:2014-1697274000-1697284800@nazusta.com
SUMMARY:NAU Community Day
DESCRIPTION:
URL:https://nazusta.com/event/nau-community-day/
LOCATION:Northern Arizona University Tennis Complex\, 821 S. San Francisco Street (Building 86)\, Flagstaff\, AZ\, 86001\, United States
CATEGORIES:Local Events,NAZ Events
ATTACH;FMTTYPE=image/png:https://nazusta.com/wp-content/uploads/2023/01/NAU-Community-Day-2023-1.png
ORGANIZER;CN="Flagstaff%20Tennis%20Association":MAILTO:info@flagstafftennis.com
END:VEVENT
END:VCALENDAR