BEGIN:VCALENDAR
VERSION:2.0
PRODID:-// - ECPv5.16.0//NONSGML v1.0//EN
CALSCALE:GREGORIAN
METHOD:PUBLISH
X-ORIGINAL-URL:https://nazusta.com
X-WR-CALDESC:Events for 
BEGIN:VTIMEZONE
TZID:UTC
BEGIN:STANDARD
TZOFFSETFROM:+0000
TZOFFSETTO:+0000
TZNAME:UTC
DTSTART:20190101T000000
END:STANDARD
END:VTIMEZONE
BEGIN:VEVENT
DTSTART;VALUE=DATE:20190927
DTEND;VALUE=DATE:20190930
DTSTAMP:20260422T095735
CREATED:20190919T193809Z
LAST-MODIFIED:20190919T193836Z
UID:225-1569542400-1569801599@nazusta.com
SUMMARY:Adult Mixed 18 & Over Championships/Adult Mixed 40 & Over Championships
DESCRIPTION:TOURNAMENT DESK\nThe Main Championship Tournament Desk located at El Conquistador Resort. We will also be using the nearby Oro Valley Community Center. \nTEAM PICTURES \nTeam pictures will be taken at the main tennis facility only. The process of how the team pictures will be covered at the captains meeting. All action photos will be posted on Facebook\, Twitter and/or Instagram. Team pictures can be purchased online after the Section Championships. \nMATCH FORMAT\nMatches will be the best of three sets using regular scoring with a 10-point match tiebreak in lieu of the third set. We will be using the Coman tiebreak rotation for all set and match tie-breaks. \nTeams may be required to play two matches any given day. Possible rain delays should be considered. In the event of rain or conditions that prevent or delay play as scheduled\, alternative scoring may be used. All captains must stay in contact with the Tournament Director to receive further information. Please REMEMBER this is a 3 day tournament. \nCANCELLATION OF TOURNAMENT\nIf the championship\, or part of the championship\, is cancelled due to rain or unforeseen circumstances\, the championship will not be rescheduled. The USTA Southwest Section will not be responsible for reimbursement of any travel expenses due to cancellation of the event. \nIDENTIFICATION \nWe will periodically check teams and players identification throughout the Championships. Please make sure all players have a picture id. \nUSTA MEMBERSHIP\nAll team members must have current USTA memberships through the tournament or players will be required to renew prior to their first match. Please instruct your players to renew ahead of the tournament to avoid any delays. \nAWARDS\nUp to 10 awards will be presented to the Champion and Finalist teams upon completion of each division’s match play on Sunday\, September 29\, 2019. Additional awards may be ordered at the teams expense. Please see the tournament director for the appropriate order form.
URL:https://nazusta.com/event/adult-mixed-18-over-championships-adult-mixed-40-over-championships/
LOCATION:Pusch Ridge – El Conquistador Resort Courts\, 10000 N Oracle Rd\, Tucson\, AZ\, 85704\, United States
CATEGORIES:Leagues
ATTACH;FMTTYPE=image/jpeg:https://nazusta.com/wp-content/uploads/2019/08/ustaleague_midwest_4c.jpg
ORGANIZER;CN="USTA%20Southwest":MAILTO:info@southwest.usta.com
END:VEVENT
END:VCALENDAR