BEGIN:VCALENDAR
VERSION:2.0
PRODID:-// - ECPv5.16.0//NONSGML v1.0//EN
CALSCALE:GREGORIAN
METHOD:PUBLISH
X-ORIGINAL-URL:https://nazusta.com
X-WR-CALDESC:Events for 
BEGIN:VTIMEZONE
TZID:UTC
BEGIN:STANDARD
TZOFFSETFROM:+0000
TZOFFSETTO:+0000
TZNAME:UTC
DTSTART:20190101T000000
END:STANDARD
END:VTIMEZONE
BEGIN:VEVENT
DTSTART;VALUE=DATE:20191206
DTEND;VALUE=DATE:20191209
DTSTAMP:20260425T145628
CREATED:20190919T194046Z
LAST-MODIFIED:20191126T023147Z
UID:229-1575590400-1575849599@nazusta.com
SUMMARY:Adult 65 & Over Sectionals Championships 2019
DESCRIPTION:Phoenix\, AZ metro area
URL:https://nazusta.com/event/adult-65-over-championships/
CATEGORIES:Leagues,Sectionals
ATTACH;FMTTYPE=image/jpeg:https://nazusta.com/wp-content/uploads/2019/08/ustaleague_midwest_4c.jpg
END:VEVENT
END:VCALENDAR