BEGIN:VCALENDAR
VERSION:2.0
PRODID:-// - ECPv5.16.0//NONSGML v1.0//EN
CALSCALE:GREGORIAN
METHOD:PUBLISH
X-ORIGINAL-URL:https://nazusta.com
X-WR-CALDESC:Events for 
BEGIN:VTIMEZONE
TZID:UTC
BEGIN:STANDARD
TZOFFSETFROM:+0000
TZOFFSETTO:+0000
TZNAME:UTC
DTSTART:20230101T000000
END:STANDARD
END:VTIMEZONE
BEGIN:VEVENT
DTSTART;VALUE=DATE:20231028
DTEND;VALUE=DATE:20231030
DTSTAMP:20260424T221044
CREATED:20230110T174617Z
LAST-MODIFIED:20230824T015309Z
UID:2001-1698451200-1698623999@nazusta.com
SUMMARY:Mixed 55+ Tournament
DESCRIPTION:
URL:https://nazusta.com/event/65-league-season-start/
LOCATION:Mingus Union High School\, 1801 E Fir St\, Cottonwood\, AZ\, AZ\, 86326\, United States
CATEGORIES:Leagues
ORGANIZER;CN="USTA%20Northern%20Arizona":MAILTO:naz@southwest.usta.com
END:VEVENT
END:VCALENDAR