BEGIN:VCALENDAR
VERSION:2.0
PRODID:-// - ECPv5.16.0//NONSGML v1.0//EN
CALSCALE:GREGORIAN
METHOD:PUBLISH
X-ORIGINAL-URL:https://nazusta.com
X-WR-CALDESC:Events for 
BEGIN:VTIMEZONE
TZID:UTC
BEGIN:STANDARD
TZOFFSETFROM:+0000
TZOFFSETTO:+0000
TZNAME:UTC
DTSTART:20190101T000000
END:STANDARD
END:VTIMEZONE
BEGIN:VEVENT
DTSTART;TZID=UTC:20191019T150000
DTEND;TZID=UTC:20191019T150000
DTSTAMP:20260421T185320
CREATED:20190822T190247Z
LAST-MODIFIED:20190822T190247Z
UID:149-1571497200-1571497200@nazusta.com
SUMMARY:65+ 8.0 Nebelsky vs. Molina
DESCRIPTION:1007488820
URL:https://nazusta.com/event/65-8-0-nebelsky-vs-molina-4/
LOCATION:Poco Diablo Resort\, 1752 AZ-179\, Sedona\, AZ\, 86336\, United States
CATEGORIES:Leagues
ORGANIZER;CN="USTA%20Northern%20Arizona":MAILTO:naz@southwest.usta.com
END:VEVENT
END:VCALENDAR