BEGIN:VCALENDAR
VERSION:2.0
PRODID:-// - ECPv5.16.0//NONSGML v1.0//EN
CALSCALE:GREGORIAN
METHOD:PUBLISH
X-ORIGINAL-URL:https://nazusta.com
X-WR-CALDESC:Events for 
BEGIN:VTIMEZONE
TZID:UTC
BEGIN:STANDARD
TZOFFSETFROM:+0000
TZOFFSETTO:+0000
TZNAME:UTC
DTSTART:20190101T000000
END:STANDARD
END:VTIMEZONE
BEGIN:VEVENT
DTSTART;TZID=UTC:20191027T123000
DTEND;TZID=UTC:20191027T123000
DTSTAMP:20260422T175744
CREATED:20190822T193802Z
LAST-MODIFIED:20190822T193802Z
UID:184-1572179400-1572179400@nazusta.com
SUMMARY:40+ 4.0 Women's Hardwood vs. Brock
DESCRIPTION:1007488715
URL:https://nazusta.com/event/40-4-0-womens-hardwood-vs-brock/
LOCATION:Poco Diablo Resort\, 1752 AZ-179\, Sedona\, AZ\, 86336\, United States
CATEGORIES:Leagues
ORGANIZER;CN="USTA%20Northern%20Arizona":MAILTO:naz@southwest.usta.com
END:VEVENT
END:VCALENDAR