BEGIN:VCALENDAR
VERSION:2.0
PRODID:-// - ECPv5.16.0//NONSGML v1.0//EN
CALSCALE:GREGORIAN
METHOD:PUBLISH
X-ORIGINAL-URL:https://nazusta.com
X-WR-CALDESC:Events for 
BEGIN:VTIMEZONE
TZID:UTC
BEGIN:STANDARD
TZOFFSETFROM:+0000
TZOFFSETTO:+0000
TZNAME:UTC
DTSTART:20190101T000000
END:STANDARD
END:VTIMEZONE
BEGIN:VEVENT
DTSTART;TZID=UTC:20191026T120000
DTEND;TZID=UTC:20191026T120000
DTSTAMP:20260422T015111
CREATED:20190822T193749Z
LAST-MODIFIED:20190822T193749Z
UID:164-1572091200-1572091200@nazusta.com
SUMMARY:40+ 3.5 Women's Weick vs. Conn
DESCRIPTION:1007488333
URL:https://nazusta.com/event/40-3-5-womens-weick-vs-conn/
LOCATION:Hal Jensen Recreation Center\, 2403 N Izabel St\, Flagstaff\, AZ\, 86004\, United States
CATEGORIES:Leagues
ORGANIZER;CN="USTA%20Northern%20Arizona":MAILTO:naz@southwest.usta.com
END:VEVENT
END:VCALENDAR