BEGIN:VCALENDAR
VERSION:2.0
PRODID:-// - ECPv5.16.0//NONSGML v1.0//EN
CALSCALE:GREGORIAN
METHOD:PUBLISH
X-ORIGINAL-URL:https://nazusta.com
X-WR-CALDESC:Events for 
BEGIN:VTIMEZONE
TZID:UTC
BEGIN:STANDARD
TZOFFSETFROM:+0000
TZOFFSETTO:+0000
TZNAME:UTC
DTSTART:20190101T000000
END:STANDARD
END:VTIMEZONE
BEGIN:VEVENT
DTSTART;TZID=UTC:20190908T120000
DTEND;TZID=UTC:20190908T120000
DTSTAMP:20260421T165701
CREATED:20190822T193733Z
LAST-MODIFIED:20190822T193733Z
UID:154-1567944000-1567944000@nazusta.com
SUMMARY:40+ 3.0 Women's Stallings vs. Lasley
DESCRIPTION:1007488455
URL:https://nazusta.com/event/40-3-0-womens-stallings-vs-lasley/
LOCATION:Yavapai College Tennis Center\, 1100 E Sheldon St\, Prescott\, AZ\, 86301\, United States
CATEGORIES:Leagues
ORGANIZER;CN="USTA%20Northern%20Arizona":MAILTO:naz@southwest.usta.com
END:VEVENT
END:VCALENDAR